BEGIN:VCALENDAR
VERSION:2.0
PRODID:-//Les ateliers de bitche - ECPv3.9.1//NONSGML v1.0//EN
CALSCALE:GREGORIAN
METHOD:PUBLISH
X-WR-CALNAME:Les ateliers de bitche
X-ORIGINAL-URL:http://ateliersdebitche.org
X-WR-CALDESC:Events for Les ateliers de bitche
BEGIN:VEVENT
DTSTART;VALUE=DATE-TIME:20230530T203000
DTEND;VALUE=DATE-TIME:20230530T235000
DTSTAMP:20260422T195807
CREATED:20230522T141204
LAST-MODIFIED:20230522T150020
UID:14160-1685478600-1685490600@http://ateliersdebitche.org
SUMMARY:THEATRE - Oh Z'arts Etc Cie avec "Libre Penseur" -
DESCRIPTION:  Toute l'équipe de la compagnie Oh Z'arts Etc Cie  est en tournée avec "Libre Penseur" en passant par Tours\, Saint-Nazaire\, Nantes\, Lyon et bien plus encore.... Découvrez toutes les dates ci-dessous et venez découvrir ce récit concert immersif.  Dans un écrin confidentiel\, une comédienne\, un musicien et un éclairagiste vont par leurs voix mêlées\, dérouler le fil des quatre-vingt neuf derniers jours de Fernand Iveton\, ouvrier tourneur Algérois condamné à mort par l'État français en 1956 pour tentative de sabotage.  Le trio adapte la prose de Joseph Andras dans une sorte de récit-concert aux lueurs intimes qui nous plonge dans les interstices du passé colonialiste.  Autour de la figure de Fernand\, il y a Hélène\, son épouse\, ainsi que les voix de toute une pléiade de protagonistes qui s’engagent et s’incarnent.  Car bien plus qu’un récit\, ce sont des fragments d’une vie brute\, des témoignages du réel où la béatitude d’un coup de foudre se heurte à la violence de la torture\, où la délicatesse de l’humanité se percute à la brutalité d’une décision politique.      Un teaser sera diffusé dans les prochaine jours ...      PRix Libre  FB pr infos réservation : https://www.facebook.com/cieohzartsetc
URL:http://ateliersdebitche.org/agenda/theatre-oh-zarts-etc-cie-avec-libre-penseur/
CATEGORIES:THEATRE
ATTACH;FMTTYPE=image/jpeg:http://ateliersdebitche.org/wp-content/uploads/2023/05/347843111_6079842968778556_526111143653734754_n.jpg
END:VEVENT
END:VCALENDAR