BEGIN:VCALENDAR
VERSION:2.0
PRODID:-//Les ateliers de bitche - ECPv3.9.1//NONSGML v1.0//EN
CALSCALE:GREGORIAN
METHOD:PUBLISH
X-WR-CALNAME:Les ateliers de bitche
X-ORIGINAL-URL:http://ateliersdebitche.org
X-WR-CALDESC:Events for Les ateliers de bitche
BEGIN:VEVENT
DTSTART;VALUE=DATE-TIME:20220722T193000
DTEND;VALUE=DATE-TIME:20220722T230000
DTSTAMP:20260423T105320
CREATED:20220620T144745
LAST-MODIFIED:20220704T152151
UID:13974-1658518200-1658530800@http://ateliersdebitche.org
SUMMARY:Spectacle de théâtre " Bistrot " - avec des textes de Roland Topor (café Panique) et de Matei Viesnieck
DESCRIPTION:SPECTACLE ETHYLO-LIBERTOPHILE POUR TOUS    Pour résumé \,c'est un spectacle autour des bistrots avec des textes de  Roland Topor (café Panique) et de Matei Viesnieck (avec aussi quelques  chansons). C'est un spectacle à 3\, les 2 autres sont des comédiens et  clown avec pas mal de bouteille. On a déjà fait une sortie de résidence  dans l'Est à Meisenthal (à 15 km de Bitche).  C'est surréaliste\, drôle mais pas que (il y a parfois l'ambiance glauque  qu'on peut retrouver dans un bar).    avec Laurent Peuze à l'accordéon.    &nbsp;
URL:http://ateliersdebitche.org/agenda/spectacle-les-bistrots/
CATEGORIES:THEATRE
ATTACH;FMTTYPE=image/jpeg:http://ateliersdebitche.org/wp-content/uploads/2022/06/Affiche-bitche.jpg
END:VEVENT
END:VCALENDAR