BEGIN:VCALENDAR
VERSION:2.0
PRODID:-//Les ateliers de bitche - ECPv3.9.1//NONSGML v1.0//EN
CALSCALE:GREGORIAN
METHOD:PUBLISH
X-WR-CALNAME:Les ateliers de bitche
X-ORIGINAL-URL:http://ateliersdebitche.org
X-WR-CALDESC:Events for Les ateliers de bitche
BEGIN:VEVENT
DTSTART;VALUE=DATE-TIME:20240919T180000
DTEND;VALUE=DATE-TIME:20240919T230000
DTSTAMP:20260426T043500
CREATED:20240916T132423
LAST-MODIFIED:20240916T132423
UID:14724-1726768800-1726786800@http://ateliersdebitche.org
SUMMARY:"Girls & boys" sortie de résidence par La compagnie Hors de l'Eau et Buvette Bitche !
DESCRIPTION:Ce vendredi 19 septembre aux Ateliers de Bitche\, sortie de résidence à 18h !  La compagnie Hors de l'Eau prépare une représentation de la pièce "Girls &amp; boys" de l'auteur britannique Dennis Kelly\, ce sera l'occasion de venir jeter un œil au chantier en cours.  Of course\, le bar des ateliers sera ouvert de 18h à 22h avec ses boissons de producteurs locaux !      GIRLS &amp; BOYSUne femme dont on ne connaîtra jamais le nom raconte l’histoire de sa rencontre et de sa relation avec son mari\, dans un monologue au ton léger et décalé. Cependant\, la comédie joyeuse des débuts – rencontre truculente dans une file d’attente d’EasyJet\, relation amoureuse et enfants – vire rapidement au drame. Scénariste réputé et maître de l’asphyxie\, l’auteur cisèle un foudroyant retournement de situation. Comment bascule-t-on de l’idylle à l’horreur la plus brutale ? Qu’est-ce qui pousse un être humain à commettre l’impensable ? Dennis Kelly explore les ressorts enfouis de la masculinité\, des relations amoureuses\, de la filiation et de la folie\, à travers cette puissante tragédie\, jouissive et mélancolique.    DENNIS KELLYDennis Kelly est né à Londres en 1970. Il est l'héritier du théâtre "in yer face" (Sarah Kane\, Martin Crimp\, Mark Ravenhill...)\, courant du théâtre anglais des années 90 dans le sillage d'Antonin Artaud. Ses pièces sont jouées et traduites dans le monde entier. Il est également l'auteur de pièces radiophoniques et scénariste de séries télévisées : Pulling (BBC 3)\, UTOPIA (Channel 4) qu'il a également coproduite\, et The Third Day (Sky Atlantic). Il a reçu de nombreux prix et distinctions : nomination pour les British Academy Film Awards en 2008\, lauréat des prix South Bank Award et British Comedy Award en 2009. Son théâtre est publié à L'Arche.    Compagnie HORS DE L'EAUHors de l'eau propose un théâtre engagé mêlant le cirque\, la danse\, la musique\, la marionnette\, la vidéo\, la magie... Un théâtre de recherche et d'expérimentation artistique\, proposant des formes hybrides.  &nbsp;
URL:http://ateliersdebitche.org/agenda/girls-boys-sortie-de-residence-par-la-compagnie-hors-de-leau-et-buvette-bitche/
CATEGORIES:BUVETTE,résidence
ATTACH;FMTTYPE=image/jpeg:http://ateliersdebitche.org/wp-content/uploads/2024/09/458649260_937695761726066_2734093459966557747_n.jpg
END:VEVENT
END:VCALENDAR