BEGIN:VCALENDAR
VERSION:2.0
PRODID:-//Les ateliers de bitche - ECPv3.9.1//NONSGML v1.0//EN
CALSCALE:GREGORIAN
METHOD:PUBLISH
X-WR-CALNAME:Les ateliers de bitche
X-ORIGINAL-URL:http://ateliersdebitche.org
X-WR-CALDESC:Events for Les ateliers de bitche
BEGIN:VEVENT
DTSTART;VALUE=DATE-TIME:20240216T200000
DTEND;VALUE=DATE-TIME:20240217T015500
DTSTAMP:20260422T141007
CREATED:20240109T181024
LAST-MODIFIED:20240129T112053
UID:14296-1708113600-1708134900@http://ateliersdebitche.org
SUMMARY:RELEASE PARTY - LE VERiTABLE ARiEL TOKO // Soirée sous les Tropiques !
DESCRIPTION:RELEASE PARTY - LE VERiTABLE ALBUM du Véritable ARiEL TOKO    Après 2 ans et demi sur les routes\, le Véritable Ariel Toko rend hommage à Ariel Toko lui-même avec un premier album. Pour fêter cette sortie\, Ariel nous a demandé d'organiser une release party. Nous avons accédé à sa demande et on fera donc la fête\, en présence d'Ariel Toko\, le vendredi 16 février 2024 aux Ateliers de Bitche.    *** AMBIANCE TOKOPICALE GARANTIE ***    Et pour faire honneur à Ariel et à notre fidèle ou nouveau public\, pas mal de nouveaux morceaux.    \\ Ouverture des portes 20h //  • 20h30  Concert de Le Véritable Ariel TOKO  https://www.facebook.com/LeveritableArielToko  • 22H30  Dj Aïnhoa  https://www.facebook.com/ainhoa.miguel    Entrée à prix conscient  Entrée offerte pour l'achat d'un CD à 10€  Bar sur place / CB acceptée    EVENT FB : https://fb.me/e/3pBiYTJpw  FB : https://www.facebook.com/LeveritableArielToko
URL:http://ateliersdebitche.org/agenda/release-party-le-veritable-ariel-toko-soiree-sous-les-tropiques/
CATEGORIES:RELEASE PARTY
ATTACH;FMTTYPE=image/png:http://ateliersdebitche.org/wp-content/uploads/2024/01/Affiche-Release-Party-Toko_v2.png
END:VEVENT
END:VCALENDAR