BEGIN:VCALENDAR
VERSION:2.0
PRODID:-//Les ateliers de bitche - ECPv3.9.1//NONSGML v1.0//EN
CALSCALE:GREGORIAN
METHOD:PUBLISH
X-WR-CALNAME:Les ateliers de bitche
X-ORIGINAL-URL:http://ateliersdebitche.org
X-WR-CALDESC:Events for Les ateliers de bitche
BEGIN:VEVENT
DTSTART;VALUE=DATE-TIME:20190831T200000
DTEND;VALUE=DATE-TIME:20190901T020000
DTSTAMP:20260423T175241
CREATED:20190716T115128
LAST-MODIFIED:20190716T115155
UID:3092-1567281600-1567303200@http://ateliersdebitche.org
SUMMARY:ELECTROPIXEL#9 - electro/noise/expé/guitare/beat/indus/drone/vidéo/tek minimal/dance floor/perf/machine..ect....,D
DESCRIPTION:lien fb :: https://www.facebook.com/events/407837183157450/    /////////////////////////////--------------------------------------------------------------    Prix adhérent : 4€  Prix normal : 5€  Prix sur place : 6€  --------------------    Enerzion - noise DIY electronics  https://soundcloud.com/enerzion/night-of-frightened-neighbors    Cambia - Critical beats + danse  https://soundcloud.com/papacambia/cambia-live-aduioblast3-session    Teniang - field recording indus-riot  https://soundcloud.com/teniang    Anthony Taillard - electronics\, jouets\, distortion  https://vimeo.com/42903500    Anne-Sophie Lecreurer - synthé pop noise décalé  https://soundcloud.com/saintes    Sylvie Noel - musique électronique improvisé  https://soundcloud.com/sylvie-noel-homestudio73    Jokilla - UltraSpeedDrum shout performance  https://soundcloud.com/user-425538351    Gaelle Cressent - installation vidéo sur toute la soirée  https://vimeo.com/255720190    GoDoG (GuitarDroneGroup) - drone &amp; guitares  https://archive.org/details/TravelInAWhiteClock/meaning_a_stone_in_a_pocket.mp3    Olaf Hund - Electro-Impro multimachines  http://olafhund.com/solo-music/live-solo/    Drumtakaboum - critical beats and post-dance floor Ensemble  https://soundcloud.com/themanta/what-wiring-is-that-music-by-drumtakaboum    Fantôme à Rayures - Gameboy Diy techno bouges toi (tbc)  https://www.youtube.com/watch?v=yyoFBZOekbQ    Dj Software - le gros son tech de fin de soirée jusqu'au boustiste!  https://www.facebook.com/hyperfrequence/    MOS (Dj set) - techno minimal berlin    Hollywood Film Destructor - jouer à détruire des films hollywoodiens toute la nuit!!    ----------------------------------------------  ----------------------------------------------  ELECTROPIXEL INTERNATIONAL  -------------------------------------------------  Festival des cultures numériques émergentes et pratiques électroniques libres  Electropixel s’inscrit dans un réseau international de festivals d’arts électroniques. Le festival ouvre un espace singulier permettant la rencontre d’artistes (audiovisuels\, musiciens\, plasticiens\, intermédias\, performeurs\, etc.)\, théoriciens\, programmeurs\, bidouilleurs\, et inventeurs de tous bords et des fabriques du quotidien.    Corps Electroniques et morphologie abstraite du réel    Au coeur du monde contemporain et de ses problématiques\, la question du corps et de son développement\, son amélioration\, son perfectionnement par le biais de l’électronique et du numérique pose de nombreuses questions à la fois aux penseurs\, à l’ensemble de la société et aux artistes.  Quand nous formulons “corps électroniques” nous pensons de façon immédiate au cyborg et à l’augmentation des possibilités du corps par la technologie. Donna Haraway nous dit que “Le cyborg est un organisme cybernétique\, hybride de machine et de vivant\, créature de la réalité sociale comme personnage de roman”.  Il s’agirait donc à la fois d’une fiction mais aussi d’un rapport social et d’une façon de voir le vivant sous l’angle de la cybernétique. Nous pensons qu’il peut exister d’autres rapports entre corps et machine qui ne soient pas ceux de la cybernétique de Norbert Wiener mais peut-être une relation plus distanciée.  Nous ne sommes pas tous des cyborg en devenir\, la relation à la machine reste toujours externalisée\, le smartphone et l’ordinateur portable restent toujours les outils que nous utilisons : ils ne sont pas intégrés ou relié à notre corps. Cependant dans certains cas le lien se fait plus fort comme les puces intégrées sous la peau qui permettent d’envoyer un signal radio à une machine.  L’avenir semble incertain\, les approches sont multiples et ouvertes à différents points de vue.
URL:http://ateliersdebitche.org/agenda/electropixel9-electronoiseexpeguitarebeatindusdronevideotek-minimaldance-floorperfmachine-ect-d/
CATEGORIES:Concert,free-expe-beat électro.,Performance,Projection
ATTACH;FMTTYPE=image/jpeg:http://ateliersdebitche.org/wp-content/uploads/2019/07/66134697_2305879579449699_4654344999410860032_n-1.jpg
END:VEVENT
END:VCALENDAR