BEGIN:VCALENDAR
VERSION:2.0
PRODID:-//Les ateliers de bitche - ECPv3.9.1//NONSGML v1.0//EN
CALSCALE:GREGORIAN
METHOD:PUBLISH
X-WR-CALNAME:Les ateliers de bitche
X-ORIGINAL-URL:http://ateliersdebitche.org
X-WR-CALDESC:Events for Les ateliers de bitche
BEGIN:VEVENT
DTSTART;VALUE=DATE-TIME:20190616T180000
DTEND;VALUE=DATE-TIME:20190617T010000
DTSTAMP:20260423T225043
CREATED:20190612T192355
LAST-MODIFIED:20190612T192408
UID:2892-1560708000-1560733200@http://ateliersdebitche.org
SUMMARY:Présentation du projet de jardin + Projection du film !
DESCRIPTION:Présentation du projet de jardin des Ateliers de Bitche et des Ateliers de Magellan aux habitants + projection du film l'an 01.    
URL:http://ateliersdebitche.org/agenda/presentation-du-projet-de-jardin-projection-du-film/
CATEGORIES:JARDIN/BARBECU,Projection
ATTACH;FMTTYPE=image/jpeg:http://ateliersdebitche.org/wp-content/uploads/2019/06/62365936_2343890702600320_7926947587465150464_n.jpg
END:VEVENT
END:VCALENDAR