BEGIN:VCALENDAR
VERSION:2.0
PRODID:-//Les ateliers de bitche - ECPv3.9.1//NONSGML v1.0//EN
CALSCALE:GREGORIAN
METHOD:PUBLISH
X-WR-CALNAME:Les ateliers de bitche
X-ORIGINAL-URL:http://ateliersdebitche.org
X-WR-CALDESC:Events for Les ateliers de bitche
BEGIN:VEVENT
DTSTART;VALUE=DATE-TIME:20250117T200000
DTEND;VALUE=DATE-TIME:20250118T235500
DTSTAMP:20260423T070823
CREATED:20250106T170248
LAST-MODIFIED:20250106T170248
UID:14786-1737144000-1737244500@http://ateliersdebitche.org
SUMMARY:SORTIE DE TOBBOGAN 1 - un ensemble composite / Performances - Point Kilométrique -
DESCRIPTION:Deux soirées de performances de danse\, musique bruitiste  et vocalises improvisées les 17 et 18 janvier à 20h\,  avec Pascal Krupka\, Lise N.\, Camille Rasera\, Brigitte Costy\, Amandine Maillard\, Vanya Karayan \, Morgan\, Séraphine.  Tarif : 8 / 5 eurosRéservation : pointkilometrique@gmail.com ou 0781200120    EVENT FB : https://fb.me/e/9Jo47Usg4      &nbsp;
URL:http://ateliersdebitche.org/agenda/sortie-de-tobbogan-1-un-ensemble-composite-performances-point-kilometrique/
CATEGORIES:Performance
ATTACH;FMTTYPE=image/jpeg:http://ateliersdebitche.org/wp-content/uploads/2025/01/Sortie-de-Toboggan1-long.jpg
END:VEVENT
END:VCALENDAR