BEGIN:VCALENDAR
VERSION:2.0
PRODID:-//Les ateliers de bitche - ECPv3.9.1//NONSGML v1.0//EN
CALSCALE:GREGORIAN
METHOD:PUBLISH
X-WR-CALNAME:Les ateliers de bitche
X-ORIGINAL-URL:http://ateliersdebitche.org
X-WR-CALDESC:Events for Les ateliers de bitche
BEGIN:VEVENT
DTSTART;VALUE=DATE-TIME:20230602T150000
DTEND;VALUE=DATE-TIME:20230614T200000
DTSTAMP:20260419T135800
CREATED:20230504T094117
LAST-MODIFIED:20230522T104802
UID:14149-1685718000-1686772800@http://ateliersdebitche.org
SUMMARY:LE GRiS BOUILLOIR Exposition - Dessins de FLORIAN PROUST (Angers) - vernis.2juin 18H30 avec le Groupe LOOPKINE (synthwave)
DESCRIPTION:LiBERTHé  EGALiTHé  FRATERNiTHé  LE GRiS BOUiLLOIR expose à Bitche  Dessins \, Peintures de FLORIAN PROUST (Angers)  Ouverture de l'Expo du 2 juin au 14 juin - 15h/20H - tous les jours !  Vernissage Vendredi 2 juin 18H30 avec un concert de LOOPKINE Trio Synthwave Psyché (NANTES- prix libre)  petit BAR  Dessins à l'encre de chine\, inspiration film d'animation\, caricature \, Florian est un touche à tout avec un certain génie et beaucoup d'humour !  Après une formation dans une certaine école de dessin animé\, il ouvre un petite Galerie/atelier/salon de thé appelé le Gris Bouilloir à Angers\, celle-ci vient de fermer mais un autre projet est déjà en cours pour reproduire cette antre de l' ART dans une autre ville !  Venez le rencontrer !  fb : LEGRISBOUILLOIR    
URL:http://ateliersdebitche.org/agenda/le-gris-bouilloir-exposition-dessins-de-florian-proust-angers-vernis-2juin-18h30-avec-le-groupe-loopkine-synthwave/
CATEGORIES:Exposition
ATTACH;FMTTYPE=image/jpeg:http://ateliersdebitche.org/wp-content/uploads/2023/05/affiche-ok-low.jpg
END:VEVENT
END:VCALENDAR