BEGIN:VCALENDAR
VERSION:2.0
PRODID:-//Les ateliers de bitche - ECPv3.9.1//NONSGML v1.0//EN
CALSCALE:GREGORIAN
METHOD:PUBLISH
X-WR-CALNAME:Les ateliers de bitche
X-ORIGINAL-URL:http://ateliersdebitche.org
X-WR-CALDESC:Events for Les ateliers de bitche
BEGIN:VEVENT
DTSTART;VALUE=DATE-TIME:20230311T180000
DTEND;VALUE=DATE-TIME:20230325T180000
DTSTAMP:20260424T154155
CREATED:20230227T115328
LAST-MODIFIED:20230227T115328
UID:14090-1678557600-1679767200@http://ateliersdebitche.org
SUMMARY:Exposition Of Nature, Of Noise / Visite EXPO du mercredi au samedi de 14h à 18h
DESCRIPTION:Du 11 au 25 mars 2023  Exposition Of Nature\, Of Noise  Les Ateliers de Bitche - Nantes  avec :  Anna Greenwood  Nathalie Plantin  Madeleine Anna Pickett  Gabriel Vogel  Rhys Trimble  Jenny Pickett  Sebastien Lemporte  Julien Ottavi    Visite du mercredi au samedi de 14h à 18h  info : http://apo33.org  ___________________________________  Événements pendant l'exposition  -17 mars - Eugene Chadbourne + Natrajaor  -24 mars - Arme/Wolframite/Trimble + invités  &nbsp;
URL:http://ateliersdebitche.org/agenda/exposition-of-nature-of-noise-visite-expo-du-mercredi-au-samedi-de-14h-a-18h/
CATEGORIES:EXPERIMENTATION,Exposition
ATTACH;FMTTYPE=image/jpeg:http://ateliersdebitche.org/wp-content/uploads/2023/02/332892280_985927859061424_2312560843859758619_n.jpg
END:VEVENT
END:VCALENDAR