BEGIN:VCALENDAR
VERSION:2.0
PRODID:-//Les ateliers de bitche - ECPv3.9.1//NONSGML v1.0//EN
CALSCALE:GREGORIAN
METHOD:PUBLISH
X-WR-CALNAME:Les ateliers de bitche
X-ORIGINAL-URL:http://ateliersdebitche.org
X-WR-CALDESC:Events for Les ateliers de bitche
BEGIN:VEVENT
DTSTART;VALUE=DATE-TIME:20190218T150000
DTEND;VALUE=DATE-TIME:20190220T200000
DTSTAMP:20260424T163756
CREATED:20190125T150437
LAST-MODIFIED:20190126T184704
UID:2605-1550502000-1550692800@http://ateliersdebitche.org
SUMMARY:Le Roi Poulpe aux Ateliers de Bitche
DESCRIPTION:Un conte clownesque\, maritime et musical pour les enfants et leurs parents.  Les 18\,19 et 20 Février à 15 h aux Ateliers de Bitche\, 3 rue de Bitche\, Nantes    Informations et réservations :  contact@lesdandysproduction.com / 06 19 01 55 24    Entrée 8 euros / Tarif réduit 5 euros ( - de 12\, demandeur d'emploi\, RSA )  Paiement sur place : chèques ou espèces uniquement.    Ils sont deux mystérieux personnages\, des explorateurs\, qui nous racontent avoir été avalés par une baleine.  Combien de temps ? Ils l’ignorent.  Mais suffisamment pour y perdre toute notion de temps et la raison !  C’est pour sauvegarder leur humanité que nos deux voyageurs vont se transformer en conteurs qui créeront à l’aide des objets trouvés dans les entrailles du cétacé et toujours à la limite d’une démence explosive\, Le Roi Poulpe\, un spectacle qui vous transportera tous au plus profond des océans.    Ce spectacle familial est adapté aux festivals et programmations jeune public\, CE\, mairies\, associations et centres de loisirs ou écoles.  Spectacle à partir de 3 ans​
URL:http://ateliersdebitche.org/agenda/le-roi-poulpe-aux-ateliers-de-bitche/
CATEGORIES:CLOWN,THEATRE
ATTACH;FMTTYPE=image/jpeg:http://ateliersdebitche.org/wp-content/uploads/2019/01/les-comediens-ont-rapidement-entraine-le-jeune-public-dans_2239441.jpg
END:VEVENT
END:VCALENDAR