BEGIN:VCALENDAR
VERSION:2.0
PRODID:-//Les ateliers de bitche - ECPv3.9.1//NONSGML v1.0//EN
CALSCALE:GREGORIAN
METHOD:PUBLISH
X-WR-CALNAME:Les ateliers de bitche
X-ORIGINAL-URL:http://ateliersdebitche.org
X-WR-CALDESC:Events for Les ateliers de bitche
BEGIN:VEVENT
DTSTART;VALUE=DATE-TIME:20250207T200000
DTEND;VALUE=DATE-TIME:20250209T020000
DTSTAMP:20260422T104006
CREATED:20250116T172242
LAST-MODIFIED:20250116T172242
UID:14797-1738958400-1739066400@http://ateliersdebitche.org
SUMMARY:CABARET PLAiSiR BURLESQUE // PUiSSANCE
DESCRIPTION:❦ CABARET PLAiSiR BURLESQUE ❦    présente PUiSSANCE    7 et 8 février 2025    20h00    ❦ ++D'infos FB : https://www.facebook.com/profile.php?id=100057207080145
URL:http://ateliersdebitche.org/agenda/cabaret-plaisir-burlesque-puissance/
CATEGORIES:CABARET
ATTACH;FMTTYPE=image/jpeg:http://ateliersdebitche.org/wp-content/uploads/2025/01/cabar.jpg
END:VEVENT
END:VCALENDAR