BEGIN:VCALENDAR
VERSION:2.0
PRODID:-//Les ateliers de bitche - ECPv3.9.1//NONSGML v1.0//EN
CALSCALE:GREGORIAN
METHOD:PUBLISH
X-WR-CALNAME:Les ateliers de bitche
X-ORIGINAL-URL:http://ateliersdebitche.org
X-WR-CALDESC:Events for Les ateliers de bitche
BEGIN:VEVENT
DTSTART;VALUE=DATE-TIME:20240628T200000
DTEND;VALUE=DATE-TIME:20240629T020000
DTSTAMP:20260423T001617
CREATED:20240617T153757
LAST-MODIFIED:20240617T153926
UID:14673-1719604800-1719626400@http://ateliersdebitche.org
SUMMARY:FIER.E.S !    Cabaret Plaisir Burlesque les 28 et 29 Juin !
DESCRIPTION:Coucou les merveilles\, l'heure de l'été va sonner et pour l'occasion\, nous le collectif plaisir burlesque nous apprêtons à vous accueillir aux ateliers de Bitche pour notre tout nouveau cabaret FIER.E.S !C'est la tête haute\, le torse gonflé qu'iels se présenteront à vous les 28 et 29 Juin 2024 !Parce que nous sommes FIER.E.S de nos identités et que nous le crierons sur tous les toits s'il le faut.Le moment est à la résistance\, la dignité et la puissance collective !Alors venez vibrer\, danser\, libérer les corps et les voix avec les artistes !Billetterie sur place ET en ligne lien ci-dessous  Pour le vendredi 28 juin les places en vente ici :  https://www.helloasso.com/.../fier-e-s-vendredi-28-juin...  Pour le samedi 29 juin\, les places sont en vente ici :  https://www.helloasso.com/.../fier-e-s-vendredi-28-juin-2024  Nos soirées sont artistiques et politiques : libérer les corps et la parole. Expérimenter la géographie des sens\, de l’émoi\, de la sexualité\, de l’intimité\, à partir de ce que nous sommes. Vous entrez dans un espace d’exploration\, de révolution\, de découverte de soi\, rempli d’individualités et d'identités complexes. Une pluralité d’humain.e.s prêt.e.s à diffuser des paillettes.  Ces deux soirées sont proposées par Dandys Production et Structure Trouble.  Photo © Marin Bréhin    EVENT FB :: https://www.facebook.com/share/rDej6Aw5TN2T5N2S/  &nbsp;
URL:http://ateliersdebitche.org/agenda/14673/
CATEGORIES:CABARET
ATTACH;FMTTYPE=image/jpeg:http://ateliersdebitche.org/wp-content/uploads/2024/06/448273321_987095713207322_1571936444150168372_n.jpg
END:VEVENT
END:VCALENDAR