BEGIN:VCALENDAR
VERSION:2.0
PRODID:-//Les ateliers de bitche - ECPv3.9.1//NONSGML v1.0//EN
CALSCALE:GREGORIAN
METHOD:PUBLISH
X-WR-CALNAME:Les ateliers de bitche
X-ORIGINAL-URL:http://ateliersdebitche.org
X-WR-CALDESC:Events for Les ateliers de bitche
BEGIN:VEVENT
DTSTART;VALUE=DATE-TIME:20241220T200000
DTEND;VALUE=DATE-TIME:20241221T020000
DTSTAMP:20260426T005429
CREATED:20241202T160950
LAST-MODIFIED:20241202T160950
UID:14772-1734724800-1734746400@http://ateliersdebitche.org
SUMMARY:Sol Invictus #4 par Le Filtre à Sons ! Musiques noise pour la fin du monde.
DESCRIPTION:Le Filtre à Sons présente     𝐒𝐎𝐋 𝐈𝐍𝐕𝐈𝐂𝐓𝐔𝐒 #𝟒Musiques noise pour la fin du monde    𝑫𝒆 𝒍𝒂 𝒏𝒐𝒊𝒔𝒆 𝒅𝒆 𝑵𝒐𝒆̈𝒍 𝒆𝒕 𝒅𝒆 𝒍𝒂 𝒃𝒊𝒆̀𝒓𝒆 𝒅’𝒉𝒊𝒗𝒆𝒓 𝒂𝒖𝒙 𝑨𝒕𝒆𝒍𝒊𝒆𝒓𝒔 𝒅𝒆 𝑩𝒊𝒕𝒄𝒉𝒆\, 𝒑𝒊𝒍𝒆-𝒑𝒐𝒊𝒍 𝒋𝒖𝒔𝒕𝒆 𝒂𝒗𝒂𝒏𝒕 𝒍𝒆𝒔 𝒗𝒂𝒄𝒂𝒏𝒄𝒆𝒔 ! 𝑹𝒂𝒎𝒆̀𝒏𝒆 𝒕𝒐𝒏 𝒑𝒍𝒖𝒔 𝒃𝒆𝒂𝒖 𝑷𝒆̀𝒓𝒆 𝑵𝒐𝒆̈𝒍\, 𝒐𝒏 𝒔’𝒐𝒄𝒄𝒖𝒑𝒆 𝒅𝒆𝒔 𝒃𝒐𝒖𝒄𝒉𝒐𝒏𝒔 𝒅’𝒐𝒓𝒆𝒊𝒍𝒍𝒆𝒔 𝒆𝒕 𝒅𝒆𝒔 𝒍𝒂𝒓𝒔𝒆𝒏𝒔.    𝐓𝐡𝐞𝐞 𝐀𝐥𝐜𝐨𝐡𝐨𝐥𝐢𝐜𝐬 - 𝑑𝑜𝑜𝑚 𝑛𝑜𝑖𝑠𝑒 ℎ𝑦𝑝𝑛𝑜𝑡𝑖𝑞𝑢𝑒 (𝑈𝐾)𝐓𝐢𝐜𝐤𝐥𝐞𝐬 - 𝑝𝑜𝑠𝑡 ℎ𝑎𝑟𝑑𝑐𝑜𝑟𝑒 𝑛𝑜𝑖𝑠𝑒𝑝𝑢𝑛𝑘 (44)𝐏𝐨𝐮𝐫𝐋𝐚𝐆𝐮𝐞́𝐫𝐢𝐬𝐨𝐧 - 𝑠𝑜𝑙𝑜 𝑑𝑟𝑢𝑚 &amp; 𝑛𝑜𝑖𝑠𝑒 (81)    Live aux Ateliers de Bitche3 rue de Bitche\, NantesVendredi 20 décembre – 20h+/- (plus ou moins) 5€      𝐓𝐇𝐄𝐄 𝐀𝐋𝐂𝐎𝐇𝐎𝐋𝐈𝐂𝐒𝑑𝑜𝑜𝑚 𝑛𝑜𝑖𝑠𝑒 ℎ𝑦𝑝𝑛𝑜𝑡𝑖𝑞𝑢𝑒 (𝑈𝐾)  Grincheux de l'ampli\, tortionnaires de la fuzzbox\, Thee Alcoholics a peut-être commencé sa carrière en tant que projet personnel de Rhys Llewellyn (Hey Colossus/Acidliner/Drmcnt)\, mais la forme ultime de cette création bestiale est le live. En rassemblant des cohortes pour transformer ces impros viscérales en quelque chose qui secoue les chevrons et fait trembler les lunettes\, de nouvelles frontières de fière intensité se sont manifestées.  Les amateurs.trices d'hébétude lysergique et du son d'un Marshall 4x12 qui s'éteint violemment trouveront ici de quoi se satisfaire\, leur dernier album “Bear Bites Horse Sessions” (Rocket Recordings) est un témoignage de la punition sonore comme porte d'entrée vers de nouveaux horizons\, de l'excès auditif comme chemin vers la sagesse\, et des réponses\, bonnes ou mauvaises\, que l'on peut trouver au fond d'un verre.  𝑉𝑖𝑑𝑒́𝑜 “𝐷𝑢𝑚𝑏 𝑎𝑛𝑑 ℎ𝑎𝑝𝑝𝑦” : https://www.youtube.com/watch?v=Z9trIZDwhuA𝐵𝑎𝑛𝑑𝑐𝑎𝑚𝑝 : https://thee-alcoholics.bandcamp.com/.../bear-bites-horse...      𝐓𝐈𝐂𝐊𝐋𝐄𝐒𝑝𝑜𝑠𝑡 ℎ𝑎𝑟𝑑𝑐𝑜𝑟𝑒 𝑛𝑜𝑖𝑠𝑒𝑝𝑢𝑛𝑘 (44)  Cousin de Mad Foxes\, OHM. ou Ämelast\, Tickles a commencé comme un cover band punk/hardcore de génériques de dessins-animés. De Scooby-Doo\, Pokémon en passant par Totally Spies et fort de cette expérience débile\, Tickles est devenu un vrai groupe. Malgré ce que semble indiquer son nom\, Tickles ne chatouille pas\, au contraire\, le quatuor nous gifle à coup de riffs nerveux et de rythmes fous. Un peu à la Joe Talbot d’Idles\, la voix vient pilonner\, hacher\, percuter et amplifier la puissance sonore des autres instruments.  Leur dernier EP “TicklesTicklesTicklesTicklesTickles” (sorti sur À Tant Rêver Du Roi) nous assène dans la tronche 6 morceaux d’une efficacité redoutable.  𝑉𝑖𝑑𝑒́𝑜 “𝑃𝑎𝑝𝑒𝑟 𝑝𝑙𝑎𝑛𝑒𝑠” : https://www.youtube.com/watch?v=IOoyFK-X-n4𝐵𝑎𝑛𝑑𝑐𝑎𝑚𝑝 : https://ticklesticklestickles.bandcamp.com/      𝐏𝐎𝐔𝐑𝐋𝐀𝐆𝐔𝐄́𝐑𝐈𝐒𝐎𝐍𝑠𝑜𝑙𝑜 𝑑𝑟𝑢𝑚 &amp; 𝑛𝑜𝑖𝑠𝑒 (81)  Prenez un skater mystique\, donnez-lui une batterie\, un micro et quelques pédales d’effet. Le résultat s’appelle PourLaGuérison et ça joue de l’impro intratypiquéquipique.  L’essentiel est là\, la transe est assurée.    𝑆𝑜𝑢𝑛𝑑𝑐𝑙𝑜𝑢𝑑 : https://soundcloud.com/.../pourlaguerison-demo-in-the...      /--------/    Le Filtre à Sons :  Musique / arts visuels / performances / poésie / DIY  http://www.lefiltreasons.com/https://www.instagram.com/le_filtre_a_sons/  &nbsp;
URL:http://ateliersdebitche.org/agenda/sol-invictus-4-par-le-filtre-a-sons-musiques-noise-pour-la-fin-du-monde/
CATEGORIES:Concert
ATTACH;FMTTYPE=image/jpeg:http://ateliersdebitche.org/wp-content/uploads/2024/12/468335899_1080831150503909_3381965312736184119_n.jpg
END:VEVENT
END:VCALENDAR