BEGIN:VCALENDAR
VERSION:2.0
PRODID:-//Les ateliers de bitche - ECPv3.9.1//NONSGML v1.0//EN
CALSCALE:GREGORIAN
METHOD:PUBLISH
X-WR-CALNAME:Les ateliers de bitche
X-ORIGINAL-URL:http://ateliersdebitche.org
X-WR-CALDESC:Events for Les ateliers de bitche
BEGIN:VEVENT
DTSTART;VALUE=DATE-TIME:20230428T200000
DTEND;VALUE=DATE-TIME:20230430T020000
DTSTAMP:20260422T094554
CREATED:20230424T210205
LAST-MODIFIED:20230424T210205
UID:14138-1682712000-1682820000@http://ateliersdebitche.org
SUMMARY:PLAISIR BURLESQUE - Structure Trouble -
DESCRIPTION:C’est le grand retour de l’équipe PLAISIR BURLESQUE aux Ateliers de Bitche avec non pas une mais deux soirées cabarets   Au programme :  20h00 Ouverture des portes - apéro  21h début des shows  *** Shows burlesques *** effeuillage *** strip-tease *** performance *** body art ***  23h30 &gt; 1h45 BOOOOOUM !    Avec les incroyables performeureuses :  Baby Rock  Oli Folie  Frida Kalor  La dame du Lac  Poussin  Queue de Cheval  Jéjé Ricane  Il Mortadella  Nana Love  A la régie générale\, régie son et lumière : DJ Carrément + Lune glacée      Nos soirées sont artistiques et politiques : libérer les corps\, la parole. Expérimenter la géographie des sens\, de l’émoi\, de la sexualité\, de l’intimité\, à partir de ce que nous sommes. Vous entrez dans un espace d’exploration\, de révolution\, de découverte de soi\, rempli d’individualités et d'identités complexes. Une pluralité d’humain.e.s prêt.e.s à diffuser des paillettes de 20h à 1h45 aux ateliers de bitche\, vous serez tartiné.es de love et de paillettes !    Places en prévente uniquement sur Hello Asso : Attention : il y a un lien pour la soirée du vendredi et un autre distinct pour la soirée du samedi.  VENDREDI :  https://www.helloasso.com/.../cabaret-plaisir-burlesque...  SAMEDI :  https://www.helloasso.com/.../cabaret-plaisir-burlesque...  Une Soirée proposée par Structure Trouble &amp; Les dandys production  Crédit photo Marine Bréhin  &nbsp;
URL:http://ateliersdebitche.org/agenda/plaisir-burlesque-structure-trouble/
ATTACH;FMTTYPE=image/jpeg:http://ateliersdebitche.org/wp-content/uploads/2023/04/339676301_771461960909179_2500114948712640282_n.jpg
END:VEVENT
END:VCALENDAR