BEGIN:VCALENDAR
VERSION:2.0
PRODID:-//Les ateliers de bitche - ECPv3.9.1//NONSGML v1.0//EN
CALSCALE:GREGORIAN
METHOD:PUBLISH
X-WR-CALNAME:Les ateliers de bitche
X-ORIGINAL-URL:http://ateliersdebitche.org
X-WR-CALDESC:Events for Les ateliers de bitche
BEGIN:VEVENT
DTSTART;VALUE=DATE-TIME:20220814T050000
DTEND;VALUE=DATE-TIME:20220828T235500
DTSTAMP:20260421T135442
CREATED:20220712T194352
LAST-MODIFIED:20220812T131821
UID:13984-1660453200-1661730900@http://ateliersdebitche.org
SUMMARY:***☀️ SUMMERTIME BREAK BiTCHE ☀️***
DESCRIPTION:☀️☀️☀️ C'est la Grande PAUSE estivale !!!☀️☀️☀️    ☀️Bel éTé à Tous !!☀️    ••••• Buro Info Bitche ETE 2022 :    Ouvert le lundi 18\, mardi 26 juill. et le 8 aout\, 29 ou 30 aout pas sûr !    Sinon LUNDI 5 sept.! •••••    Bel été!
URL:http://ateliersdebitche.org/agenda/summertime-break-bitche/
ATTACH;FMTTYPE=image/jpeg:http://ateliersdebitche.org/wp-content/uploads/2022/07/point-de-vue-paysage-relaxation-lumière-du-jour-soleil-sable-ciel-bleu-plage-mer-en-haeundae-été-à-busan-corée-149716971.jpg
END:VEVENT
END:VCALENDAR