BEGIN:VCALENDAR
VERSION:2.0
PRODID:-//Les ateliers de bitche - ECPv3.9.1//NONSGML v1.0//EN
CALSCALE:GREGORIAN
METHOD:PUBLISH
X-WR-CALNAME:Les ateliers de bitche
X-ORIGINAL-URL:http://ateliersdebitche.org
X-WR-CALDESC:Events for Les ateliers de bitche
BEGIN:VEVENT
DTSTART;VALUE=DATE-TIME:20220507T180000
DTEND;VALUE=DATE-TIME:20220508T020000
DTSTAMP:20260419T121003
CREATED:20220419T142502
LAST-MODIFIED:20220423T083801
UID:13928-1651946400-1651975200@http://ateliersdebitche.org
SUMMARY:Illegal TEAM - CONCERT de SOUTIEN !!
DESCRIPTION:prog.à venir
URL:http://ateliersdebitche.org/agenda/illegal-team-concert-de-soutien/
CATEGORIES:Concert,SOIREE SOUTIEN
ATTACH;FMTTYPE=image/jpeg:http://ateliersdebitche.org/wp-content/uploads/2022/04/278278382_706783510669857_5480156014083107484_n.jpg
END:VEVENT
END:VCALENDAR