BEGIN:VCALENDAR
VERSION:2.0
PRODID:-//Les ateliers de bitche - ECPv3.9.1//NONSGML v1.0//EN
CALSCALE:GREGORIAN
METHOD:PUBLISH
X-WR-CALNAME:Les ateliers de bitche
X-ORIGINAL-URL:http://ateliersdebitche.org
X-WR-CALDESC:Events for Les ateliers de bitche
BEGIN:VEVENT
DTSTART;VALUE=DATE-TIME:20180824T080000
DTEND;VALUE=DATE-TIME:20190227T083000
DTSTAMP:20260422T023530
CREATED:20180824T103241
LAST-MODIFIED:20190227T082302
UID:2432-1535097600-1551256200@http://ateliersdebitche.org
SUMMARY:INFO/PERMANENCE/ACCUEIL
DESCRIPTION:A partir de début JANVIER 2019\, aux ATeliers de Bitche\, une permanence exclusivement les MERCREDis entre 14h et 19h sera assurée par la coordinatrice du lieu (marjorie ANDRE) \, Permanence d'Accueil\, d'Explications et d'Infos diverses et Passage obligatoire pour toutes adhésions\, signature de conventions\, prêt de sono...ect...MERCi. Je traite aussi dans les meilleurs délais vos demandes via la boîte mail asso. Toutes demandes (ateliers\, expos\, concerts\, chantier\,infos ...) se fait via ce mail orgabitche@framalistes.org (je réponds rarement aux message FB merci). De plus pour les ateliers partagés sérigraphie et autres ateliers\, réouverture en MARS/AVRIL 2019 (si tout est posé/nickel...)\, l'activité de répétition est suspendue.
URL:http://ateliersdebitche.org/agenda/infopermanence/
ATTACH;FMTTYPE=image/jpeg:http://ateliersdebitche.org/wp-content/uploads/2018/08/f9413e1dbb35f4447cfc1b73beb352f4-fougeres-le-bureau-de-la-banque-de-france-restera-ouvert.jpg
END:VEVENT
BEGIN:VEVENT
DTSTART;VALUE=DATE-TIME:20190211T133000
DTEND;VALUE=DATE-TIME:20190215T173000
DTSTAMP:20260422T023530
CREATED:20190206T170732
LAST-MODIFIED:20190206T170732
UID:2640-1549891800-1550251800@http://ateliersdebitche.org
SUMMARY:Stage 6-12 ans, Théâtre Gestuel et Masques
DESCRIPTION:Une collaboration de l'Atelier Plastik et des Ateliers de Bitche avec Les Dandys Production.    N'hésitez pas à nous contacter pour obtenir une fiche d'inscription ou pour plus d'information.  atelierplastik@gmail.com  07 50 99 64 46    Ce stage pour les enfants de 6 à 12 ans\, est animé par Mylène Aulagnier\, plasticienne et Camille Rock\, comédienne.    Le but du jeu est de construire un spectacle de A à Z.  Les heureux participants découvriront les différentes étapes et les différentes facettes de la création que ce soit la mise en scène\, ou la création des masques.  Ils seront à la fois comédiens\, scénographes\, machinistes\, selon les moments mais aussi selon les envies de chacun.    Le spectacle sera alors présenté à la fin du stage à un public en délire.    Et tout cela\, merveilleusement encadré dans la joie\, la bonne humeur et le professionnalisme inépuisable de ces deux charmantes dames !    Informations pratiques:  - Du 11 février au 15 février 2018 de 13H30 à 17H30  - Tarif: 140€/ 120€ (pour les fratries inscrites et parents demandeurs d'emploi)  - Prévoir une tenue confortable et un goûter pour chaque jour
URL:http://ateliersdebitche.org/agenda/stage-6-12-ans-theatre-gestuel-et-masques/
CATEGORIES:Ateliers,CLOWN
ATTACH;FMTTYPE=image/jpeg:http://ateliersdebitche.org/wp-content/uploads/2019/02/49345064_966620423530882_1605300209347198976_n.jpg
END:VEVENT
END:VCALENDAR