BEGIN:VCALENDAR
VERSION:2.0
PRODID:-//Les ateliers de bitche - ECPv3.9.1//NONSGML v1.0//EN
CALSCALE:GREGORIAN
METHOD:PUBLISH
X-WR-CALNAME:Les ateliers de bitche
X-ORIGINAL-URL:http://ateliersdebitche.org
X-WR-CALDESC:Events for Les ateliers de bitche
BEGIN:VEVENT
DTSTART;VALUE=DATE-TIME:20180307T200000
DTEND;VALUE=DATE-TIME:20190101T010000
DTSTAMP:20260423T115318
CREATED:20180307T153923
LAST-MODIFIED:20181001T160959
UID:2347-1520452800-1546304400@http://ateliersdebitche.org
SUMMARY:ça rigole plus !!!,)
DESCRIPTION:Début des travaux c'est du sérieux\, jusqu'à fin décembre\,    le temps de tout réaménager\, réouverture pour JANVIER 2019 !!!
URL:http://ateliersdebitche.org/agenda/ca-rigole-plus/
ATTACH;FMTTYPE=image/jpeg:http://ateliersdebitche.org/wp-content/uploads/2018/03/20180926_191654_resized.jpg
END:VEVENT
END:VCALENDAR